BEGIN:VCALENDAR
VERSION:2.0
PRODID:-//ARKN FPD Website - ECPv6.14.2//NONSGML v1.0//EN
CALSCALE:GREGORIAN
METHOD:PUBLISH
X-WR-CALNAME:ARKN FPD Website
X-ORIGINAL-URL:https://arknfpd.org
X-WR-CALDESC:Events for ARKN FPD Website
REFRESH-INTERVAL;VALUE=DURATION:PT1H
X-Robots-Tag:noindex
X-PUBLISHED-TTL:PT1H
BEGIN:VTIMEZONE
TZID:Asia/Krasnoyarsk
BEGIN:STANDARD
TZOFFSETFROM:+0700
TZOFFSETTO:+0700
TZNAME:+07
DTSTART:20240101T000000
END:STANDARD
END:VTIMEZONE
BEGIN:VEVENT
DTSTART;VALUE=DATE:20240715
DTEND;VALUE=DATE:20240717
DTSTAMP:20260425T170158
CREATED:20240710T082617Z
LAST-MODIFIED:20250228T083102Z
UID:672-1721001600-1721174399@arknfpd.org
SUMMARY:The 27th Meeting of The ASEAN Working Group on Forest Products Development (AWG-FPD)
DESCRIPTION:
URL:https://arknfpd.org/event/the-27th-meeting-of-the-asean-working-group-on-forest-products-development-awg-fpd/
CATEGORIES:Annual Meeting
END:VEVENT
END:VCALENDAR